BEGIN:VCALENDAR
PRODID:-//github.com/rianjs/ical.net//NONSGML ical.net 4.0//EN
VERSION:2.0
BEGIN:VTIMEZONE
TZID:Eastern Standard Time
X-LIC-LOCATION:America/New_York
BEGIN:STANDARD
DTSTART:20241103T020000
RRULE:FREQ=YEARLY;BYDAY=1SU;BYMONTH=11
TZNAME:EST
TZOFFSETFROM:-0400
TZOFFSETTO:-0500
END:STANDARD
BEGIN:DAYLIGHT
DTSTART:20250309T020000
RRULE:FREQ=YEARLY;BYDAY=2SU;BYMONTH=3
TZNAME:EDT
TZOFFSETFROM:-0500
TZOFFSETTO:-0400
END:DAYLIGHT
END:VTIMEZONE
BEGIN:VEVENT
DESCRIPTION:Premier Health: Premier Health MS Update\nhttps://www.premierh
 ealth.com/news-and-events/events/continuing-education--ms-update---non-pr
 emier-2026\n\nThe third annual Multiple Sclerosis Update is for healthcar
 e providers across all disciplines involved in the care of MS patients. T
 he update will engage participants in learning with leading experts\, pro
 vide new and emerging evidence-based research and therapies\, with consid
 eration to cross continuum care to allow for optimal care and support of 
 individuals with MS. Continuing education credits provided to all attende
 es as appropriate. Breakfast and Lunch will be provided for all attendees
 . \n\nDaniel J. Curran Place\nMeyer Room\n1700 S. Patterson Blvd.\nDayton
 \, Ohio 45409\n\n- Public transportation available\n- Handicap accessible
 \n- Ample parking located in the R2 lot behind the building. Please enter
  the main entrance and turn left to find the R2 Lot.
DTEND:20261009T160000
DTSTAMP:20260421T121535Z
DTSTART:20261009T073000
LOCATION:Meyer Room\, 1700 S. Patterson Blvd.\, Dayton\, Ohio 45409
SEQUENCE:0
SUMMARY:Premier Health: Premier Health MS Update
UID:d220577b8f794df598bebf293e6e28bc
URL:https://www.premierhealth.com/news-and-events/events/continuing-educat
 ion--ms-update---non-premier-2026
BEGIN:VALARM
ACTION:DISPLAY
DESCRIPTION:The third annual Multiple Sclerosis Update is for healthcare p
 roviders across all disciplines involved in the care of MS patients. The 
 update will engage participants in learning with leading experts\, provid
 e new and emerging evidence-based research and therapies\, with considera
 tion to cross continuum care to allow for optimal care and support of ind
 ividuals with MS. Continuing education credits provided to all attendees 
 as appropriate. Breakfast and Lunch will be provided for all attendees.
SUMMARY:Premier Health: Premier Health MS Update
TRIGGER:-PT30M
END:VALARM
END:VEVENT
END:VCALENDAR
