BEGIN:VCALENDAR
PRODID:-//github.com/rianjs/ical.net//NONSGML ical.net 4.0//EN
VERSION:2.0
BEGIN:VTIMEZONE
TZID:Eastern Standard Time
X-LIC-LOCATION:America/New_York
BEGIN:STANDARD
DTSTART:20241103T020000
RRULE:FREQ=YEARLY;BYDAY=1SU;BYMONTH=11
TZNAME:EST
TZOFFSETFROM:-0400
TZOFFSETTO:-0500
END:STANDARD
BEGIN:DAYLIGHT
DTSTART:20250309T020000
RRULE:FREQ=YEARLY;BYDAY=2SU;BYMONTH=3
TZNAME:EDT
TZOFFSETFROM:-0500
TZOFFSETTO:-0400
END:DAYLIGHT
END:VTIMEZONE
BEGIN:VEVENT
DESCRIPTION:Premier Health: MVH Berry Women's Health Pavilion Maternity To
 ur\nhttps://www.premierhealth.com/news-and-events/events/mvh-maternity-to
 ur-05.27.2026\n\nJoin us on a brief tour of The Berry Women's Health Pavi
 lion at Miami Valley Hospital. Starting on the Wyoming level\,  you will 
 see the entrance and discuss parking and arrival. Then you will get to se
 e a labor room and a postpartum room. Also included is a tour of Family B
 eginnings Birth Center\, the natural birth center that is located within 
 the building that has very large birthing tubs. The level 3 NICU will als
 o be discussed. \n\nMiami Valley Hospital\nExercise Room: Berry Building 
 Wyoming Level\n1 Wyoming Street\nDayton\, Ohio 45409\n\n- Public transpor
 tation available\n- Handicap accessible\n- Enter main parking garage from
  Colby/Wyoming Lane or Magnolia Street.  **License plate number needed to
  validate parking.
DTEND:20260427T183000
DTSTAMP:20260420T181030Z
DTSTART:20260427T173000
LOCATION:Exercise Room: Berry Building Wyoming Level\, 1 Wyoming Street\, 
 Dayton\, Ohio 45409
SEQUENCE:0
SUMMARY:Premier Health: MVH Berry Women's Health Pavilion Maternity Tour
UID:b3adda7343644ce2b602657059f5298d
URL:https://www.premierhealth.com/news-and-events/events/mvh-maternity-tou
 r-05.27.2026
BEGIN:VALARM
ACTION:DISPLAY
DESCRIPTION:Join us on a brief tour of The Berry Women's Health Pavilion a
 t Miami Valley Hospital. Starting on the Wyoming level\,  you will see th
 e entrance and discuss parking and arrival. Then you will get to see a la
 bor room and a postpartum room. Also included is a tour of Family Beginni
 ngs Birth Center\, the natural birth center that is located within the bu
 ilding that has very large birthing tubs. The level 3 NICU will also be d
 iscussed.
SUMMARY:Premier Health: MVH Berry Women's Health Pavilion Maternity Tour
TRIGGER:-PT30M
END:VALARM
END:VEVENT
END:VCALENDAR
